BEGIN:VCALENDAR
VERSION:2.0
PRODID:-//North Point Church, Gaffney SC - ECPv6.13.2.1//NONSGML v1.0//EN
CALSCALE:GREGORIAN
METHOD:PUBLISH
X-ORIGINAL-URL:https://northpointgaffney.com
X-WR-CALDESC:Events for North Point Church, Gaffney SC
REFRESH-INTERVAL;VALUE=DURATION:PT1H
X-Robots-Tag:noindex
X-PUBLISHED-TTL:PT1H
BEGIN:VTIMEZONE
TZID:UTC
BEGIN:STANDARD
TZOFFSETFROM:+0000
TZOFFSETTO:+0000
TZNAME:UTC
DTSTART:20170101T000000
END:STANDARD
END:VTIMEZONE
BEGIN:VTIMEZONE
TZID:America/New_York
BEGIN:DAYLIGHT
TZOFFSETFROM:-0500
TZOFFSETTO:-0400
TZNAME:EDT
DTSTART:20170312T070000
END:DAYLIGHT
BEGIN:STANDARD
TZOFFSETFROM:-0400
TZOFFSETTO:-0500
TZNAME:EST
DTSTART:20171105T060000
END:STANDARD
END:VTIMEZONE
BEGIN:VEVENT
DTSTART;TZID=UTC:20170108T093000
DTEND;TZID=UTC:20170108T113000
DTSTAMP:20260423T182824
CREATED:20170103T202011Z
LAST-MODIFIED:20170103T202011Z
UID:1408-1483867800-1483875000@northpointgaffney.com
SUMMARY:Weekly Service
DESCRIPTION:Join us at 9:30am for coffee and donuts. Worship and Bible study starts at 9:50am.
URL:https://northpointgaffney.com/event/weekly-service-4/
LOCATION:New Location/ Crossroad Church 130 Conway Black Rd Spartanburg SC 29307\, 130Conway Black Rd\, Spartanburg\, SC\, 29307\, United States
CATEGORIES:Community Event
END:VEVENT
BEGIN:VEVENT
DTSTART;TZID=America/New_York:20170104T180000
DTEND;TZID=America/New_York:20170104T200000
DTSTAMP:20260423T182824
CREATED:20161227T040954Z
LAST-MODIFIED:20161227T040954Z
UID:1299-1483552800-1483560000@northpointgaffney.com
SUMMARY:Youth Meeting
DESCRIPTION:Students ages 13-18 meet at the church to hang out and study the Bible with Youth Pastors Holden and Brittany Poole.
URL:https://northpointgaffney.com/event/youth-meeting/
LOCATION:New Location/ Crossroad Church 130 Conway Black Rd Spartanburg SC 29307\, 130Conway Black Rd\, Spartanburg\, SC\, 29307\, United States
CATEGORIES:Youth Event
END:VEVENT
BEGIN:VEVENT
DTSTART;TZID=America/New_York:20170101T093000
DTEND;TZID=America/New_York:20170101T113000
DTSTAMP:20260423T182824
CREATED:20170101T093001Z
LAST-MODIFIED:20170103T201856Z
UID:1295-1483263000-1483270200@northpointgaffney.com
SUMMARY:Weekly Service
DESCRIPTION:Join us at 9:30am for coffee and donuts. Worship and Bible study starts at 9:50am.
URL:https://northpointgaffney.com/event/weekly-service/
LOCATION:North Point Church 122 Caggiano Dr Gaffney SC 29341\, 122 Caggiano Drive\, Gaffney\, SC\, 29341\, United States
CATEGORIES:Community Event
END:VEVENT
END:VCALENDAR