BEGIN:VCALENDAR
VERSION:2.0
PRODID:-//North Point Church, Gaffney SC - ECPv6.13.2.1//NONSGML v1.0//EN
CALSCALE:GREGORIAN
METHOD:PUBLISH
X-WR-CALNAME:North Point Church, Gaffney SC
X-ORIGINAL-URL:https://northpointgaffney.com
X-WR-CALDESC:Events for North Point Church, Gaffney SC
REFRESH-INTERVAL;VALUE=DURATION:PT1H
X-Robots-Tag:noindex
X-PUBLISHED-TTL:PT1H
BEGIN:VTIMEZONE
TZID:UTC
BEGIN:STANDARD
TZOFFSETFROM:+0000
TZOFFSETTO:+0000
TZNAME:UTC
DTSTART:20170101T000000
END:STANDARD
END:VTIMEZONE
BEGIN:VTIMEZONE
TZID:America/New_York
BEGIN:DAYLIGHT
TZOFFSETFROM:-0500
TZOFFSETTO:-0400
TZNAME:EDT
DTSTART:20170312T070000
END:DAYLIGHT
BEGIN:STANDARD
TZOFFSETFROM:-0400
TZOFFSETTO:-0500
TZNAME:EST
DTSTART:20171105T060000
END:STANDARD
END:VTIMEZONE
BEGIN:VEVENT
DTSTART;TZID=UTC:20170126T183000
DTEND;TZID=UTC:20170126T200000
DTSTAMP:20260423T171436
CREATED:20170115T044817Z
LAST-MODIFIED:20170115T044817Z
UID:1566-1485455400-1485460800@northpointgaffney.com
SUMMARY:Young Adult Home Group
DESCRIPTION:
URL:https://northpointgaffney.com/event/young-adult-home-group-2/
LOCATION:New Location/ Crossroad Church 130 Conway Black Rd Spartanburg SC 29307\, 130Conway Black Rd\, Spartanburg\, SC\, 29307\, United States
CATEGORIES:Community Event
END:VEVENT
BEGIN:VEVENT
DTSTART;TZID=UTC:20170125T183000
DTEND;TZID=UTC:20170125T200000
DTSTAMP:20260423T171436
CREATED:20170115T044003Z
LAST-MODIFIED:20170115T044003Z
UID:1562-1485369000-1485374400@northpointgaffney.com
SUMMARY:Home Groups (4)
DESCRIPTION:
URL:https://northpointgaffney.com/event/home-groups-4-2/
LOCATION:New Location/ Crossroad Church 130 Conway Black Rd Spartanburg SC 29307\, 130Conway Black Rd\, Spartanburg\, SC\, 29307\, United States
CATEGORIES:Community Event
END:VEVENT
BEGIN:VEVENT
DTSTART;TZID=UTC:20170125T053000
DTEND;TZID=UTC:20170125T190000
DTSTAMP:20260423T171436
CREATED:20170115T043709Z
LAST-MODIFIED:20170115T043808Z
UID:1558-1485322200-1485370800@northpointgaffney.com
SUMMARY:Weekly Youth Meeting
DESCRIPTION:
URL:https://northpointgaffney.com/event/weekly-youth-meeting-2/
LOCATION:New Location/ Crossroad Church 130 Conway Black Rd Spartanburg SC 29307\, 130Conway Black Rd\, Spartanburg\, SC\, 29307\, United States
CATEGORIES:Youth Event
ATTACH;FMTTYPE=image/jpeg:https://northpointgaffney.com/wp-content/uploads/2016/10/pexels-photo-66463.jpeg
END:VEVENT
BEGIN:VEVENT
DTSTART;TZID=UTC:20170122T130000
DTEND;TZID=UTC:20170122T150000
DTSTAMP:20260423T171436
CREATED:20170115T045041Z
LAST-MODIFIED:20170115T045041Z
UID:1568-1485090000-1485097200@northpointgaffney.com
SUMMARY:Home Group
DESCRIPTION:
URL:https://northpointgaffney.com/event/home-group-2/
LOCATION:Chandler Home\, Gaffney\, SC\, United States
CATEGORIES:Community Event
END:VEVENT
BEGIN:VEVENT
DTSTART;TZID=UTC:20170122T093000
DTEND;TZID=UTC:20170122T113000
DTSTAMP:20260423T171436
CREATED:20170103T201529Z
LAST-MODIFIED:20170103T201529Z
UID:1406-1485077400-1485084600@northpointgaffney.com
SUMMARY:Weekly Service
DESCRIPTION:Join us at 9:30am for coffee and donuts. Worship and Bible study starts at 9:50am.
URL:https://northpointgaffney.com/event/weekly-service-3/
LOCATION:New Location/ Crossroad Church 130 Conway Black Rd Spartanburg SC 29307\, 130Conway Black Rd\, Spartanburg\, SC\, 29307\, United States
CATEGORIES:Community Event
END:VEVENT
BEGIN:VEVENT
DTSTART;TZID=UTC:20170119T063000
DTEND;TZID=UTC:20170119T190000
DTSTAMP:20260423T171436
CREATED:20170115T044720Z
LAST-MODIFIED:20170115T044720Z
UID:1564-1484807400-1484852400@northpointgaffney.com
SUMMARY:Young Adult Home Group
DESCRIPTION:Start Bill Hybel’s book called Simplify: Ten Practices to Unclutter Your Soul
URL:https://northpointgaffney.com/event/young-adult-home-group/
LOCATION:New Location/ Crossroad Church 130 Conway Black Rd Spartanburg SC 29307\, 130Conway Black Rd\, Spartanburg\, SC\, 29307\, United States
CATEGORIES:Community Event
END:VEVENT
BEGIN:VEVENT
DTSTART;TZID=UTC:20170118T183000
DTEND;TZID=UTC:20170118T200000
DTSTAMP:20260423T171436
CREATED:20170115T043913Z
LAST-MODIFIED:20170115T043913Z
UID:1560-1484764200-1484769600@northpointgaffney.com
SUMMARY:Home Groups (4)
DESCRIPTION:
URL:https://northpointgaffney.com/event/home-groups-4/
LOCATION:New Location/ Crossroad Church 130 Conway Black Rd Spartanburg SC 29307\, 130Conway Black Rd\, Spartanburg\, SC\, 29307\, United States
CATEGORIES:Community Event
END:VEVENT
BEGIN:VEVENT
DTSTART;TZID=UTC:20170118T173000
DTEND;TZID=UTC:20170118T190000
DTSTAMP:20260423T171436
CREATED:20170115T043558Z
LAST-MODIFIED:20170115T043558Z
UID:1556-1484760600-1484766000@northpointgaffney.com
SUMMARY:Weekly Youth Meeting
DESCRIPTION:
URL:https://northpointgaffney.com/event/weekly-youth-meeting/
LOCATION:New Location/ Crossroad Church 130 Conway Black Rd Spartanburg SC 29307\, 130Conway Black Rd\, Spartanburg\, SC\, 29307\, United States
CATEGORIES:Youth Event
END:VEVENT
BEGIN:VEVENT
DTSTART;TZID=UTC:20170115T130000
DTEND;TZID=UTC:20170115T150000
DTSTAMP:20260423T171436
CREATED:20170115T043447Z
LAST-MODIFIED:20170115T043447Z
UID:1553-1484485200-1484492400@northpointgaffney.com
SUMMARY:Home Group
DESCRIPTION:
URL:https://northpointgaffney.com/event/home-group/
LOCATION:Chandler Home\, Gaffney\, SC\, United States
CATEGORIES:Community Event
END:VEVENT
BEGIN:VEVENT
DTSTART;TZID=UTC:20170115T093000
DTEND;TZID=UTC:20170115T113000
DTSTAMP:20260423T171436
CREATED:20170103T201435Z
LAST-MODIFIED:20170103T201435Z
UID:1404-1484472600-1484479800@northpointgaffney.com
SUMMARY:Weekly Service
DESCRIPTION:Join us at 9:30am for coffee and donuts. Worship and Bible study starts at 9:50am.
URL:https://northpointgaffney.com/event/weekly-service-2/
LOCATION:New Location/ Crossroad Church 130 Conway Black Rd Spartanburg SC 29307\, 130Conway Black Rd\, Spartanburg\, SC\, 29307\, United States
CATEGORIES:Community Event
END:VEVENT
BEGIN:VEVENT
DTSTART;TZID=UTC:20170108T093000
DTEND;TZID=UTC:20170108T113000
DTSTAMP:20260423T171436
CREATED:20170103T202011Z
LAST-MODIFIED:20170103T202011Z
UID:1408-1483867800-1483875000@northpointgaffney.com
SUMMARY:Weekly Service
DESCRIPTION:Join us at 9:30am for coffee and donuts. Worship and Bible study starts at 9:50am.
URL:https://northpointgaffney.com/event/weekly-service-4/
LOCATION:New Location/ Crossroad Church 130 Conway Black Rd Spartanburg SC 29307\, 130Conway Black Rd\, Spartanburg\, SC\, 29307\, United States
CATEGORIES:Community Event
END:VEVENT
BEGIN:VEVENT
DTSTART;TZID=America/New_York:20170104T180000
DTEND;TZID=America/New_York:20170104T200000
DTSTAMP:20260423T171436
CREATED:20161227T040954Z
LAST-MODIFIED:20161227T040954Z
UID:1299-1483552800-1483560000@northpointgaffney.com
SUMMARY:Youth Meeting
DESCRIPTION:Students ages 13-18 meet at the church to hang out and study the Bible with Youth Pastors Holden and Brittany Poole.
URL:https://northpointgaffney.com/event/youth-meeting/
LOCATION:New Location/ Crossroad Church 130 Conway Black Rd Spartanburg SC 29307\, 130Conway Black Rd\, Spartanburg\, SC\, 29307\, United States
CATEGORIES:Youth Event
END:VEVENT
BEGIN:VEVENT
DTSTART;TZID=America/New_York:20170101T093000
DTEND;TZID=America/New_York:20170101T113000
DTSTAMP:20260423T171436
CREATED:20170101T093001Z
LAST-MODIFIED:20170103T201856Z
UID:1295-1483263000-1483270200@northpointgaffney.com
SUMMARY:Weekly Service
DESCRIPTION:Join us at 9:30am for coffee and donuts. Worship and Bible study starts at 9:50am.
URL:https://northpointgaffney.com/event/weekly-service/
LOCATION:North Point Church 122 Caggiano Dr Gaffney SC 29341\, 122 Caggiano Drive\, Gaffney\, SC\, 29341\, United States
CATEGORIES:Community Event
END:VEVENT
END:VCALENDAR